BEGIN:VCALENDAR
VERSION:2.0
PRODID:-//International Teacher Training College - ECPv6.15.20//NONSGML v1.0//EN
CALSCALE:GREGORIAN
METHOD:PUBLISH
X-WR-CALNAME:International Teacher Training College
X-ORIGINAL-URL:https://ittcturkey.com
X-WR-CALDESC:Events for International Teacher Training College
REFRESH-INTERVAL;VALUE=DURATION:PT1H
X-Robots-Tag:noindex
X-PUBLISHED-TTL:PT1H
BEGIN:VTIMEZONE
TZID:Europe/Istanbul
BEGIN:STANDARD
TZOFFSETFROM:+0300
TZOFFSETTO:+0300
TZNAME:+03
DTSTART:20190101T000000
END:STANDARD
END:VTIMEZONE
BEGIN:VEVENT
DTSTART;TZID=Europe/Istanbul:20200822T160000
DTEND;TZID=Europe/Istanbul:20200822T190000
DTSTAMP:20260422T012031
CREATED:20200816T134139Z
LAST-MODIFIED:20200816T143247Z
UID:399-1598112000-1598122800@ittcturkey.com
SUMMARY:Webinar: ‘Learning Oriented Assessment Tasks for Online Instruction in the Global Pandemic Era’
DESCRIPTION:
URL:https://ittcturkey.com/event/webinar-learning-oriented-assessment-tasks-for-online-instruction-in-the-global-pandemic-era/
LOCATION:online
ORGANIZER;CN="International Teacher Training College":MAILTO:info@ittcturkey.com
END:VEVENT
BEGIN:VEVENT
DTSTART;TZID=Europe/Istanbul:20200814T170000
DTEND;TZID=Europe/Istanbul:20200814T200000
DTSTAMP:20260422T012031
CREATED:20200812T184524Z
LAST-MODIFIED:20200813T084832Z
UID:386-1597424400-1597435200@ittcturkey.com
SUMMARY:Webinar: ‘Task-Based Language Teaching: Principles\, Developments and Challenges’
DESCRIPTION:
URL:https://ittcturkey.com/event/webinar-task-based-language-teaching-principles-developments-and-challenges/
LOCATION:online
ORGANIZER;CN="International Teacher Training College":MAILTO:info@ittcturkey.com
END:VEVENT
BEGIN:VEVENT
DTSTART;TZID=Europe/Istanbul:20200808T160000
DTEND;TZID=Europe/Istanbul:20200808T183000
DTSTAMP:20260422T012031
CREATED:20200806T093327Z
LAST-MODIFIED:20200806T094134Z
UID:356-1596902400-1596911400@ittcturkey.com
SUMMARY:Webinar: ‘Professionalizing Your English Language Teaching’
DESCRIPTION: 
URL:https://ittcturkey.com/event/webinar-professionalizing-your-english-language-teaching/
LOCATION:online
ORGANIZER;CN="International Teacher Training College":MAILTO:info@ittcturkey.com
END:VEVENT
BEGIN:VEVENT
DTSTART;TZID=Europe/Istanbul:20200523T130000
DTEND;TZID=Europe/Istanbul:20200523T150000
DTSTAMP:20260422T012031
CREATED:20200517T194951Z
LAST-MODIFIED:20200519T204535Z
UID:294-1590238800-1590246000@ittcturkey.com
SUMMARY:Webinar: ‘Real Language in a Personalised Online Test’ & ‘SPOTLIGHT Technique in Teaching Reading’
DESCRIPTION:Double Event Image 23 May
URL:https://ittcturkey.com/event/webinar-international-second-language-proficiency-ratings-islpr-spotlight-technique-in-teaching-reading/
LOCATION:online
ORGANIZER;CN="International Teacher Training College":MAILTO:info@ittcturkey.com
END:VEVENT
BEGIN:VEVENT
DTSTART;TZID=Europe/Istanbul:20200516T150000
DTEND;TZID=Europe/Istanbul:20200516T170000
DTSTAMP:20260422T012031
CREATED:20200511T105327Z
LAST-MODIFIED:20200511T105537Z
UID:289-1589641200-1589648400@ittcturkey.com
SUMMARY:Webinar: The Art of Storytelling for Teaching English & Spotlight Technique in Teaching Reading
DESCRIPTION:
URL:https://ittcturkey.com/event/webinar-the-art-of-storytelling-for-teaching-english-spotlight-technique-in-teaching-reading/
LOCATION:online
ORGANIZER;CN="International Teacher Training College":MAILTO:info@ittcturkey.com
END:VEVENT
BEGIN:VEVENT
DTSTART;TZID=Europe/Istanbul:20200509T140000
DTEND;TZID=Europe/Istanbul:20200509T180000
DTSTAMP:20260422T012031
CREATED:20200504T061510Z
LAST-MODIFIED:20200504T061510Z
UID:273-1589032800-1589047200@ittcturkey.com
SUMMARY:Professor Farhady and Professor David Crystal at ITTC
DESCRIPTION:
URL:https://ittcturkey.com/event/professor-farhady-and-professor-david-crystal-at-ittc/
LOCATION:online
ORGANIZER;CN="International Teacher Training College":MAILTO:info@ittcturkey.com
END:VEVENT
BEGIN:VEVENT
DTSTART;TZID=Europe/Istanbul:20200508T150000
DTEND;TZID=Europe/Istanbul:20200508T180000
DTSTAMP:20260422T012031
CREATED:20200504T061120Z
LAST-MODIFIED:20200504T061120Z
UID:267-1588950000-1588960800@ittcturkey.com
SUMMARY:Online Interpretation Tools
DESCRIPTION:
URL:https://ittcturkey.com/event/online-interpretation-tools/
LOCATION:online
ORGANIZER;CN="International Teacher Training College":MAILTO:info@ittcturkey.com
END:VEVENT
BEGIN:VEVENT
DTSTART;TZID=Europe/Istanbul:20200502T150000
DTEND;TZID=Europe/Istanbul:20200502T180000
DTSTAMP:20260422T012031
CREATED:20200504T061334Z
LAST-MODIFIED:20200504T061334Z
UID:270-1588431600-1588442400@ittcturkey.com
SUMMARY:ITTC's Second Webinar on Reflective Teaching
DESCRIPTION:Reflective Teaching
URL:https://ittcturkey.com/event/ittcs-second-webinar-on-reflective-teaching/
LOCATION:online
ORGANIZER;CN="International Teacher Training College":MAILTO:info@ittcturkey.com
END:VEVENT
BEGIN:VEVENT
DTSTART;TZID=Europe/Istanbul:20200425T150000
DTEND;TZID=Europe/Istanbul:20200425T170000
DTSTAMP:20260422T012031
CREATED:20200419T140525Z
LAST-MODIFIED:20200504T060044Z
UID:150-1587826800-1587834000@ittcturkey.com
SUMMARY:Webinar On How To Make Online Teaching More Student-Centered
DESCRIPTION:
URL:https://ittcturkey.com/event/russell-stannard/
LOCATION:online
ORGANIZER;CN="International Teacher Training College":MAILTO:info@ittcturkey.com
END:VEVENT
END:VCALENDAR